BEGIN:VCALENDAR
VERSION:2.0
PRODID:-//eventon.com NONSGML v1.0//EN
BEGIN:VEVENT
UID:69e8851fefac9
DTSTAMP:20260422T102151
DTSTART:20211117
DTEND:20211118
TZID:Europe/Paris
LOCATION:
SUMMARY:NAÏKÖ - LIFFRÉ
DESCRIPTION: Centre culturel (35) &#8211; Séances scolaires
URL:https://www.samverlen.com/index.php/events/naiko-liffre-2/
END:VEVENT
END:VCALENDAR