BEGIN:VCALENDAR
VERSION:2.0
PRODID:-//eventon.com NONSGML v1.0//EN
BEGIN:VEVENT
UID:69eb07844c291
DTSTAMP:20260424T080244
DTSTART:20220925
DTEND:20220930
TZID:Europe/Paris
LOCATION:
SUMMARY:L'HOMME MONTAGNE - RÉSIDENCE DE CRÉATION
DESCRIPTION: BRUZ (35) &#8211; LE GRAND LOGIS
URL:https://www.samverlen.com/index.php/events/lhomme-montagne-residence-de-creation-7/
END:VEVENT
END:VCALENDAR