BEGIN:VCALENDAR
VERSION:2.0
PRODID:-//eventon.com NONSGML v1.0//EN
BEGIN:VEVENT
UID:69e73a7f88de5
DTSTAMP:20260421T105111
DTSTART:20240214
DTEND:20240215
TZID:Europe/Paris
LOCATION:
SUMMARY:L'HOMME MONTAGNE  (forme légère)
DESCRIPTION: BREST (29) &#8211; FESTIVAL OUPS ! &#8211; Centre social de Kérangoff (17h30)
URL:https://www.samverlen.com/index.php/events/lhomme-montagne-petite-forme-6/
END:VEVENT
END:VCALENDAR