BEGIN:VCALENDAR
VERSION:2.0
PRODID:-//eventon.com NONSGML v1.0//EN
BEGIN:VEVENT
UID:69ea03f70dd78
DTSTAMP:20260423T133519
DTSTART:20260419
DTEND:20260424
TZID:Europe/Paris
LOCATION:
SUMMARY:NOIR COMME LE DIAMANT - Résidence de création
DESCRIPTION: Futur spectacle avec Heol Jeffroy\,  Gregory Bouchet et François Marsollier BRUZ (35) &#8211; Le grand logis &#8211; résidence de création
URL:https://www.samverlen.com/index.php/events/noir-comme-le-diamant-residence-de-creation-7/
END:VEVENT
END:VCALENDAR